BEGIN:VCALENDAR
VERSION:2.0
METHOD:PUBLISH
PRODID:-//Accessible Web Design//My Calendar//http://www.joedolson.com//v//EN';
BEGIN:VEVENT
UID:1709-1023
LOCATION:
SUMMARY:終了式　班別下校１１：４５
DTSTAMP:20170324
ORGANIZER;CN=teacher:MAILTO:s-koizms@city.tajimi.gifu.jp
DTSTART:20170324
DTEND:20170325
CATEGORIES:.
URL;VALUE=URI:http://school.city.tajimi.lg.jp/koizumi/?page_id=16&#038;cid=mc_mini_widget-2&#038;vcal=1709&#038;mc_id=1709
DESCRIPTION;ENCODING=QUOTED-PRINTABLE:
X-FUNAMBOL-ALLDAY: 1
X-MICROSOFT-CDO-ALLDAYEVENT: TRUE

END:VEVENT
END:VCALENDAR