BEGIN:VCALENDAR
VERSION:2.0
METHOD:PUBLISH
PRODID:-//Accessible Web Design//My Calendar//http://www.joedolson.com//v//EN';
BEGIN:VEVENT
UID:1701-1026
LOCATION:
SUMMARY:（全校）午前３時間授業　（２～５年）１１：１５班別下校　（６年）第４時：昼食・入学式準備　（１年・６年）入学式１３：００受付　（ＰＴＡ）１年生学級委員選出
DTSTAMP:20170410
ORGANIZER;CN=teacher:MAILTO:s-koizms@city.tajimi.gifu.jp
DTSTART:20170410
DTEND:20170411
CATEGORIES:.
URL;VALUE=URI:http://school.city.tajimi.lg.jp/koizumi/?page_id=16&#038;cid=mc_mini_widget-2&#038;vcal=1701&#038;mc_id=1701
DESCRIPTION;ENCODING=QUOTED-PRINTABLE:
X-FUNAMBOL-ALLDAY: 1
X-MICROSOFT-CDO-ALLDAYEVENT: TRUE

END:VEVENT
END:VCALENDAR