BEGIN:VCALENDAR
VERSION:2.0
METHOD:PUBLISH
PRODID:-//Accessible Web Design//My Calendar//http://www.joedolson.com//v//EN';
BEGIN:VEVENT
UID:1541-970
LOCATION:
SUMMARY:(４・５年生）岐阜県における学力状況調査　書き初め展（～１／２０）　班別下校１５：１０
DTSTAMP:20170112
ORGANIZER;CN=teacher:MAILTO:s-koizms@city.tajimi.gifu.jp
DTSTART:20170112
DTEND:20170113
CATEGORIES:.
URL;VALUE=URI:http://school.city.tajimi.lg.jp/koizumi/?page_id=16&#038;cid=mc_mini_widget-2&#038;vcal=1541&#038;mc_id=1541
DESCRIPTION;ENCODING=QUOTED-PRINTABLE:
X-FUNAMBOL-ALLDAY: 1
X-MICROSOFT-CDO-ALLDAYEVENT: TRUE

END:VEVENT
END:VCALENDAR