BEGIN:VCALENDAR
VERSION:2.0
METHOD:PUBLISH
PRODID:-//Accessible Web Design//My Calendar//http://www.joedolson.com//v//EN';
BEGIN:VEVENT
UID:1510-957
LOCATION:
SUMMARY:第２回資源回収（予備日）
DTSTAMP:20161204
ORGANIZER;CN=teacher:MAILTO:s-koizms@city.tajimi.gifu.jp
DTSTART:20161204
DTEND:20161205
CATEGORIES:.
URL;VALUE=URI:http://school.city.tajimi.lg.jp/koizumi/?page_id=16&#038;cid=mc_mini_widget-2&#038;vcal=1510&#038;mc_id=1510
DESCRIPTION;ENCODING=QUOTED-PRINTABLE:
X-FUNAMBOL-ALLDAY: 1
X-MICROSOFT-CDO-ALLDAYEVENT: TRUE

END:VEVENT
END:VCALENDAR