BEGIN:VCALENDAR
VERSION:2.0
METHOD:PUBLISH
PRODID:-//Accessible Web Design//My Calendar//http://www.joedolson.com//v//EN';
BEGIN:VEVENT
UID:1312-845
LOCATION:
SUMMARY:個人懇談　４時間授業　班別下校１４：００
DTSTAMP:20160706
ORGANIZER;CN=teacher:MAILTO:s-koizms@city.tajimi.gifu.jp
DTSTART:20160706
DTEND:20160707
CATEGORIES:.
URL;VALUE=URI:http://school.city.tajimi.lg.jp/koizumi/?page_id=16&#038;cid=mc_mini_widget-2&#038;vcal=1312&#038;mc_id=1312
DESCRIPTION;ENCODING=QUOTED-PRINTABLE:
X-FUNAMBOL-ALLDAY: 1
X-MICROSOFT-CDO-ALLDAYEVENT: TRUE

END:VEVENT
END:VCALENDAR