BEGIN:VCALENDAR
VERSION:2.0
METHOD:PUBLISH
PRODID:-//Accessible Web Design//My Calendar//http://www.joedolson.com//v//EN';
BEGIN:VEVENT
UID:1287-813
LOCATION:
SUMMARY:全校集会（委員会紹介）　（全校）検尿　下校１６：００（１年１４：２０）
DTSTAMP:20160520
ORGANIZER;CN=teacher:MAILTO:s-koizms@city.tajimi.gifu.jp
DTSTART:20160520
DTEND:20160521
CATEGORIES:.
URL;VALUE=URI:http://school.city.tajimi.lg.jp/koizumi/?page_id=16&#038;cid=mc_mini_widget-2&#038;vcal=1287&#038;mc_id=1287
DESCRIPTION;ENCODING=QUOTED-PRINTABLE:
X-FUNAMBOL-ALLDAY: 1
X-MICROSOFT-CDO-ALLDAYEVENT: TRUE

END:VEVENT
END:VCALENDAR